BEGIN:VCALENDAR
VERSION:2.0
PRODID:-//Mine Hill Township - ECPv6.0.7.1//NONSGML v1.0//EN
CALSCALE:GREGORIAN
METHOD:PUBLISH
X-ORIGINAL-URL:https://minehill.com
X-WR-CALDESC:Events for Mine Hill Township
REFRESH-INTERVAL;VALUE=DURATION:PT1H
X-Robots-Tag:noindex
X-PUBLISHED-TTL:PT1H
BEGIN:VTIMEZONE
TZID:America/New_York
BEGIN:DAYLIGHT
TZOFFSETFROM:-0500
TZOFFSETTO:-0400
TZNAME:EDT
DTSTART:20250309T070000
END:DAYLIGHT
BEGIN:STANDARD
TZOFFSETFROM:-0400
TZOFFSETTO:-0500
TZNAME:EST
DTSTART:20251102T060000
END:STANDARD
END:VTIMEZONE
BEGIN:VEVENT
DTSTART;VALUE=DATE:20250505
DTEND;VALUE=DATE:20250506
DTSTAMP:20260421T143939
CREATED:20250113T212149Z
LAST-MODIFIED:20250113T213001Z
UID:10000823-1746403200-1746489599@minehill.com
SUMMARY:Yard Waste Pickup
DESCRIPTION:
URL:https://minehill.com/event/yard-waste-pickup/2025-05-05/
CATEGORIES:Quick Calendar,Recycling & Garbage
END:VEVENT
BEGIN:VEVENT
DTSTART;TZID=America/New_York:20250505T190000
DTEND;TZID=America/New_York:20250505T223000
DTSTAMP:20260421T143939
CREATED:20250108T065222Z
LAST-MODIFIED:20250108T065222Z
UID:10000418-1746471600-1746484200@minehill.com
SUMMARY:Planning Board Meeting
DESCRIPTION:
URL:https://minehill.com/event/planning-board-meeting-3/2025-05-05/
CATEGORIES:Quick Calendar
END:VEVENT
BEGIN:VEVENT
DTSTART;VALUE=DATE:20250508
DTEND;VALUE=DATE:20250509
DTSTAMP:20260421T143939
CREATED:20250113T211154Z
LAST-MODIFIED:20250113T211219Z
UID:10000564-1746662400-1746748799@minehill.com
SUMMARY:Garbage & One Bulk Item Pickup
DESCRIPTION:
URL:https://minehill.com/event/garbage-one-bulk-item-pickup/2025-05-08/
CATEGORIES:Quick Calendar,Recycling & Garbage
END:VEVENT
BEGIN:VEVENT
DTSTART;TZID=America/New_York:20250510T090000
DTEND;TZID=America/New_York:20250510T120000
DTSTAMP:20260421T143939
CREATED:20250429T132720Z
LAST-MODIFIED:20250429T132722Z
UID:10000904-1746867600-1746878400@minehill.com
SUMMARY:Shred It Event
DESCRIPTION:Documents Securely and Safely. Come bring any and all of your paperwork/documents to be confidentially shredded. There is no need to remove any staples\, clips\, binders or books. They cannot shred cardboard boxes. The company shredding is National Association for Information Destruction Certified. Residents may  bring whatever they want to shred as long as they bring non-perishable\, non-expired food items to be donated to the food pantry.
URL:https://minehill.com/event/shred-it-event-2/
LOCATION:Town Hall Parking Lot\, 10 Baker Street\, Mine Hill\, 07803\, United States
CATEGORIES:Recreation & Events
ORGANIZER;CN="Mine%20Hill%20Community%20Committee":MAILTO:lbetz@minehill.com
END:VEVENT
END:VCALENDAR