BEGIN:VCALENDAR
VERSION:2.0
PRODID:-//Mine Hill Township - ECPv6.0.7.1//NONSGML v1.0//EN
CALSCALE:GREGORIAN
METHOD:PUBLISH
X-WR-CALNAME:Mine Hill Township
X-ORIGINAL-URL:https://minehill.com
X-WR-CALDESC:Events for Mine Hill Township
REFRESH-INTERVAL;VALUE=DURATION:PT1H
X-Robots-Tag:noindex
X-PUBLISHED-TTL:PT1H
BEGIN:VTIMEZONE
TZID:America/New_York
BEGIN:DAYLIGHT
TZOFFSETFROM:-0500
TZOFFSETTO:-0400
TZNAME:EDT
DTSTART:20220313T070000
END:DAYLIGHT
BEGIN:STANDARD
TZOFFSETFROM:-0400
TZOFFSETTO:-0500
TZNAME:EST
DTSTART:20221106T060000
END:STANDARD
END:VTIMEZONE
BEGIN:VEVENT
DTSTART;TZID=America/New_York:20220912T190000
DTEND;TZID=America/New_York:20220912T223000
DTSTAMP:20260419T173554
CREATED:20220111T155829Z
LAST-MODIFIED:20220607T133302Z
UID:10000151-1663009200-1663021800@minehill.com
SUMMARY:Planning Board Meeting
DESCRIPTION:
URL:https://minehill.com/event/planning-board-meeting-20-2022-03-07/2022-09-12/
CATEGORIES:Meetings,Quick Calendar
END:VEVENT
BEGIN:VEVENT
DTSTART;TZID=America/New_York:20220913T153000
DTEND;TZID=America/New_York:20220913T183000
DTSTAMP:20260419T173554
CREATED:20220823T165509Z
LAST-MODIFIED:20220823T165509Z
UID:10000232-1663083000-1663093800@minehill.com
SUMMARY:Female Cancer Screening
DESCRIPTION:Female Cancer Screening\, September 13th from 3:30 PM to 6:30 PM. This event is open to Mine Hill residents. Appointment required. Please click on the link below for more information and to schedule an appointment\, contact information is listed at the bottom of the flyer. \nFemale Cancer Screening Link
URL:https://minehill.com/event/female-cancer-screening/
CATEGORIES:Recreation & Events
END:VEVENT
BEGIN:VEVENT
DTSTART;VALUE=DATE:20220915
DTEND;VALUE=DATE:20220916
DTSTAMP:20260419T173554
CREATED:20220110T180133Z
LAST-MODIFIED:20220110T180133Z
UID:10000052-1663200000-1663286399@minehill.com
SUMMARY:Garbage & One Bulk Item Pick-up
DESCRIPTION:
URL:https://minehill.com/event/garbage-one-bulk-item-pick-up-4/2022-09-15/
CATEGORIES:Quick Calendar,Recycling & Garbage
END:VEVENT
BEGIN:VEVENT
DTSTART;VALUE=DATE:20220915
DTEND;VALUE=DATE:20220916
DTSTAMP:20260419T173554
CREATED:20220110T185627Z
LAST-MODIFIED:20220110T185627Z
UID:10000082-1663200000-1663286399@minehill.com
SUMMARY:Garbage & One Bulk Item Pick-Up
DESCRIPTION:
URL:https://minehill.com/event/garbage-one-bulk-item-pick-up-6/2022-09-15/
CATEGORIES:Quick Calendar,Recycling & Garbage
END:VEVENT
BEGIN:VEVENT
DTSTART;TZID=America/New_York:20220915T190000
DTEND;TZID=America/New_York:20220915T210000
DTSTAMP:20260419T173554
CREATED:20220110T193307Z
LAST-MODIFIED:20220110T193430Z
UID:10000115-1663268400-1663275600@minehill.com
SUMMARY:Town Council Meeting
DESCRIPTION:
URL:https://minehill.com/event/town-council-meeting-6/2022-09-15/
CATEGORIES:Quick Calendar,Town Council Meeting
END:VEVENT
BEGIN:VEVENT
DTSTART;TZID=America/New_York:20220915T190000
DTEND;TZID=America/New_York:20220915T210000
DTSTAMP:20260419T173554
CREATED:20220111T154214Z
LAST-MODIFIED:20220111T154214Z
UID:10000135-1663268400-1663275600@minehill.com
SUMMARY:Town Council Meeting
DESCRIPTION:
URL:https://minehill.com/event/town-council-meeting-13/2022-09-15/
CATEGORIES:Quick Calendar,Town Council Meeting
END:VEVENT
END:VCALENDAR