BEGIN:VCALENDAR
VERSION:2.0
PRODID:-//Mine Hill Township - ECPv6.0.7.1//NONSGML v1.0//EN
CALSCALE:GREGORIAN
METHOD:PUBLISH
X-WR-CALNAME:Mine Hill Township
X-ORIGINAL-URL:https://minehill.com
X-WR-CALDESC:Events for Mine Hill Township
REFRESH-INTERVAL;VALUE=DURATION:PT1H
X-Robots-Tag:noindex
X-PUBLISHED-TTL:PT1H
BEGIN:VTIMEZONE
TZID:America/New_York
BEGIN:DAYLIGHT
TZOFFSETFROM:-0500
TZOFFSETTO:-0400
TZNAME:EDT
DTSTART:20220313T070000
END:DAYLIGHT
BEGIN:STANDARD
TZOFFSETFROM:-0400
TZOFFSETTO:-0500
TZNAME:EST
DTSTART:20221106T060000
END:STANDARD
END:VTIMEZONE
BEGIN:VEVENT
DTSTART;VALUE=DATE:20220610
DTEND;VALUE=DATE:20220613
DTSTAMP:20260419T234450
CREATED:20220318T180540Z
LAST-MODIFIED:20220318T181017Z
UID:10000208-1654819200-1655078399@minehill.com
SUMMARY:Town Wide Garage Sale 2022
DESCRIPTION:The Town Wide Garage Sale dates for 2022 are June 10th\, 11th and 12th.
URL:https://minehill.com/event/town-wide-garage-sale-2022/
CATEGORIES:Quick Calendar
END:VEVENT
BEGIN:VEVENT
DTSTART;TZID=America/New_York:20220612T080000
DTEND;TZID=America/New_York:20220612T170000
DTSTAMP:20260419T234450
CREATED:20220603T144103Z
LAST-MODIFIED:20220603T144148Z
UID:10000004-1655020800-1655053200@minehill.com
SUMMARY:Town Wide Garage Sale
DESCRIPTION:Town Wide Garage Sale will be held June 10th through June 12th from 8:00 AM to 5:00 PM. To participate in the garage sale\, you will need to register by clicking on the link below and completing the registration. You have the option of participating for one day\, two days or all three days. There is no fee to participate. Registration is due by June 9th at Noon. \nRegister here: https://forms.gle/iTQ4jQfuhAn3aWb69
URL:https://minehill.com/event/town-wide-garage-sale-2/2022-06-12/
CATEGORIES:Recreation & Events
ORGANIZER;CN="Mine%20Hill%20Community%20Committee":MAILTO:lbetz@minehill.com
END:VEVENT
BEGIN:VEVENT
DTSTART;VALUE=DATE:20220615
DTEND;VALUE=DATE:20220616
DTSTAMP:20260419T234450
CREATED:20220111T172619Z
LAST-MODIFIED:20220111T172619Z
UID:10000168-1655251200-1655337599@minehill.com
SUMMARY:Single Stream Recycling
DESCRIPTION:
URL:https://minehill.com/event/single-stream-recycling-10/2022-06-15/
CATEGORIES:Quick Calendar,Recycling & Garbage
END:VEVENT
BEGIN:VEVENT
DTSTART;VALUE=DATE:20220616
DTEND;VALUE=DATE:20220617
DTSTAMP:20260419T234450
CREATED:20220110T180133Z
LAST-MODIFIED:20220110T180133Z
UID:10000039-1655337600-1655423999@minehill.com
SUMMARY:Garbage & One Bulk Item Pick-up
DESCRIPTION:
URL:https://minehill.com/event/garbage-one-bulk-item-pick-up-4/2022-06-16/
CATEGORIES:Quick Calendar,Recycling & Garbage
END:VEVENT
BEGIN:VEVENT
DTSTART;VALUE=DATE:20220616
DTEND;VALUE=DATE:20220617
DTSTAMP:20260419T234450
CREATED:20220110T185627Z
LAST-MODIFIED:20220110T185627Z
UID:10000069-1655337600-1655423999@minehill.com
SUMMARY:Garbage & One Bulk Item Pick-Up
DESCRIPTION:
URL:https://minehill.com/event/garbage-one-bulk-item-pick-up-6/2022-06-16/
CATEGORIES:Quick Calendar,Recycling & Garbage
END:VEVENT
BEGIN:VEVENT
DTSTART;TZID=America/New_York:20220616T190000
DTEND;TZID=America/New_York:20220616T210000
DTSTAMP:20260419T234450
CREATED:20220111T154214Z
LAST-MODIFIED:20220111T154214Z
UID:10000129-1655406000-1655413200@minehill.com
SUMMARY:Town Council Meeting
DESCRIPTION:
URL:https://minehill.com/event/town-council-meeting-13/2022-06-16/
CATEGORIES:Quick Calendar,Town Council Meeting
END:VEVENT
BEGIN:VEVENT
DTSTART;VALUE=DATE:20220617
DTEND;VALUE=DATE:20220618
DTSTAMP:20260419T234450
CREATED:20220111T191418Z
LAST-MODIFIED:20220111T191418Z
UID:10000189-1655424000-1655510399@minehill.com
SUMMARY:Yard Waste Pick-Up
DESCRIPTION:
URL:https://minehill.com/event/yard-waste-pick-up-3/2022-06-17/
CATEGORIES:Quick Calendar,Recycling & Garbage
END:VEVENT
END:VCALENDAR